BEGIN:VCALENDAR
VERSION:2.0
PRODID:-//Thinking Cap Theatre - ECPv6.15.20//NONSGML v1.0//EN
CALSCALE:GREGORIAN
METHOD:PUBLISH
X-WR-CALNAME:Thinking Cap Theatre
X-ORIGINAL-URL:https://thinkingcaptheatre.org
X-WR-CALDESC:Events for Thinking Cap Theatre
REFRESH-INTERVAL;VALUE=DURATION:PT1H
X-Robots-Tag:noindex
X-PUBLISHED-TTL:PT1H
BEGIN:VTIMEZONE
TZID:UTC
BEGIN:STANDARD
TZOFFSETFROM:+0000
TZOFFSETTO:+0000
TZNAME:UTC
DTSTART:20240101T000000
END:STANDARD
END:VTIMEZONE
BEGIN:VEVENT
DTSTART;TZID=UTC:20251214T180000
DTEND;TZID=UTC:20251214T190000
DTSTAMP:20260423T082310
CREATED:20250912T160128Z
LAST-MODIFIED:20260213T131721Z
UID:10000007-1765735200-1765738800@thinkingcaptheatre.org
SUMMARY:CYMBELINE by William Shakespeare
DESCRIPTION:Buy Tickets \n\n Show date: 5 Dec 2025 – 14 Dec 2025 \n\n\nDates:\nFriday\, December 5\, 2025 | 7:00pm (OPENING)\nSaturday\, December 6\, 2025 | 7:00pm\nSunday\, December 7\, 2025 | 6:00pm\nWednesday\, December 10\, 2025 | 7:00pm\nSaturday\, December 13\, 2025 | 7:00pm\nSunday\, December 14\, 2025 | 6:00pm (CLOSING & TALKBACK) \nLocation: Hollywood Central Performing Arts Center\, 1770 Monroe Street\, Hollywood\, FL 33020 \nDescription:\nDubbed Shakespeare’s “kitchen sink” play for its generic mashup of comedy\, tragedy\, history\, and romance\, CYMBELINE is a sweeping tale of love\, betrayal\, forgiveness\, and the resilience of the human spirit. You’ll laugh\, you’ll ponder\, and maybe you’ll shed a tear or two. In one of Shakespeare’s final and most enchanting plays\, lost children are found\, innocence is tested\, and broken bonds are healed. At the heart of the play is Imogen—one of Shakespeare’s most courageous heroines—whose unwavering integrity\, intelligence\, and grace guide the story toward its joyful and just conclusion. With forged letters\, false accusations\, mistaken identity\, and rolling heads\,\nCYMBELINE reminds us that even in the face of darkness and deceit\, truth\, love\, and humor can triumph in the end. \nCYMBELINE is made possible with support from the The Maurer Foundation\, the Art and Culture Center Hollywood & The Our Fund Foundation. \nTCT is committed to making its programs accessible for all. Accommodations are by request. Please reach out to TCT’s Managing Director via email\, breeanna@thinkingcaptheatre.org should you need any assistance.
URL:https://thinkingcaptheatre.org/event/cymbeline-by-william-shakespeare/2025-12-14/
LOCATION:Hollywood Central Performing Arts Center\, 1770 Monroe Street\, Hollywood\, FL\, 33020\, United States
ATTACH;FMTTYPE=image/jpeg:https://thinkingcaptheatre.org/wp-content/uploads/2025/09/5db17adb-e36f-4393-b97a-48d051614516.jpg
END:VEVENT
END:VCALENDAR