BEGIN:VCALENDAR
VERSION:2.0
PRODID:-//Thinking Cap Theatre - ECPv6.15.20//NONSGML v1.0//EN
CALSCALE:GREGORIAN
METHOD:PUBLISH
X-ORIGINAL-URL:https://thinkingcaptheatre.org
X-WR-CALDESC:Events for Thinking Cap Theatre
REFRESH-INTERVAL;VALUE=DURATION:PT1H
X-Robots-Tag:noindex
X-PUBLISHED-TTL:PT1H
BEGIN:VTIMEZONE
TZID:America/Halifax
BEGIN:DAYLIGHT
TZOFFSETFROM:-0400
TZOFFSETTO:-0300
TZNAME:ADT
DTSTART:20250309T060000
END:DAYLIGHT
BEGIN:STANDARD
TZOFFSETFROM:-0300
TZOFFSETTO:-0400
TZNAME:AST
DTSTART:20251102T050000
END:STANDARD
BEGIN:DAYLIGHT
TZOFFSETFROM:-0400
TZOFFSETTO:-0300
TZNAME:ADT
DTSTART:20260308T060000
END:DAYLIGHT
BEGIN:STANDARD
TZOFFSETFROM:-0300
TZOFFSETTO:-0400
TZNAME:AST
DTSTART:20261101T050000
END:STANDARD
BEGIN:DAYLIGHT
TZOFFSETFROM:-0400
TZOFFSETTO:-0300
TZNAME:ADT
DTSTART:20270314T060000
END:DAYLIGHT
BEGIN:STANDARD
TZOFFSETFROM:-0300
TZOFFSETTO:-0400
TZNAME:AST
DTSTART:20271107T050000
END:STANDARD
END:VTIMEZONE
BEGIN:VEVENT
DTSTART;TZID=America/Halifax:20260322T140000
DTEND;TZID=America/Halifax:20260322T220000
DTSTAMP:20260423T032144
CREATED:20260326T021121Z
LAST-MODIFIED:20260326T021121Z
UID:10000017-1774188000-1774216800@thinkingcaptheatre.org
SUMMARY:SALON: Featuring texts by ALIX KATES SHULMAN & HONOR MOORE
DESCRIPTION:Buy Tickets \nSPECIAL VIRTUAL AUTHOR TALK\nDATE: Sunday March 22\, 2026 | 2pm \nLOCATION: ONLINE \nMarch is Women’s History Month\, and Thinking Cap Theatre is thrilled to present a very special SALON session with two incredible women! This installment of SALON will be held virtually and feature conversations with Alix Kates Shulman and Honor Moore. \nWe will discuss several texts for this session: \n\nWomen’s Liberation! Feminist Writings That Inspired a Revolution & Still Can (2021) – BUY ON AMAZON\nMemoirs of an Ex-Prom Queen by Alix Kates Shulman (1969) – BUY ON AMAZON\nA Termination by Honor Moore (2024) – BUY ON AMAZON\n\nTimeline & What to Expect at This Special SALON \n\nWe will start the Zoom for this SALON at 1:50pm to give guests the opportunity to troubleshoot any technology-related matters.\nFrom 2pm-3pm\, we will discuss Shulman’s Memoirs\, her role as co-editor of Women’s Liberation!\, and her history in the women’s movement.\nFrom 3pm-4pm\, we will discuss Moore’s A Termination and her role as co-editor of Women’s Liberation!\, and her history in the women’s movement.\nAs always\, prior to the event\, participants will be emailed a one-page discussion guide.\nFor this special session\, we also invite guests to submit questions in advance for the authors. A link to the question submission form will be sent to guests once they have registered.\n\nAbout the Recurring Program – SALON \nThe aim of the series is to provide a sustained space to foster friendships and dialogue on themes of historical and ongoing importance to LGBTQ+ women and straight allies. Now more than ever\, we need conversation\, community\, and allyship! \nThis program was made possible by a joint grant from The Our Fund Foundation and The Community Foundation of Broward.
URL:https://thinkingcaptheatre.org/event/salon-featuring-texts-by-alix-kates-shulman-honor-moore/
LOCATION:Online
ATTACH;FMTTYPE=image/jpeg:https://thinkingcaptheatre.org/wp-content/uploads/2026/03/SALON.jpg
END:VEVENT
END:VCALENDAR