BEGIN:VCALENDAR
VERSION:2.0
PRODID:-//Thinking Cap Theatre - ECPv6.15.20//NONSGML v1.0//EN
CALSCALE:GREGORIAN
METHOD:PUBLISH
X-ORIGINAL-URL:https://thinkingcaptheatre.org
X-WR-CALDESC:Events for Thinking Cap Theatre
REFRESH-INTERVAL;VALUE=DURATION:PT1H
X-Robots-Tag:noindex
X-PUBLISHED-TTL:PT1H
BEGIN:VTIMEZONE
TZID:America/Halifax
BEGIN:DAYLIGHT
TZOFFSETFROM:-0400
TZOFFSETTO:-0300
TZNAME:ADT
DTSTART:20250309T060000
END:DAYLIGHT
BEGIN:STANDARD
TZOFFSETFROM:-0300
TZOFFSETTO:-0400
TZNAME:AST
DTSTART:20251102T050000
END:STANDARD
BEGIN:DAYLIGHT
TZOFFSETFROM:-0400
TZOFFSETTO:-0300
TZNAME:ADT
DTSTART:20260308T060000
END:DAYLIGHT
BEGIN:STANDARD
TZOFFSETFROM:-0300
TZOFFSETTO:-0400
TZNAME:AST
DTSTART:20261101T050000
END:STANDARD
BEGIN:DAYLIGHT
TZOFFSETFROM:-0400
TZOFFSETTO:-0300
TZNAME:ADT
DTSTART:20270314T060000
END:DAYLIGHT
BEGIN:STANDARD
TZOFFSETFROM:-0300
TZOFFSETTO:-0400
TZNAME:AST
DTSTART:20271107T050000
END:STANDARD
END:VTIMEZONE
BEGIN:VEVENT
DTSTART;TZID=America/Halifax:20260427T190000
DTEND;TZID=America/Halifax:20260427T190000
DTSTAMP:20260423T013536
CREATED:20260402T080636Z
LAST-MODIFIED:20260418T042603Z
UID:10000023-1777316400-1777316400@thinkingcaptheatre.org
SUMMARY:INTRO TO IMPROV
DESCRIPTION:Buy Tickets \nSunshine Cathedral \nCreativity! Conversation! Collaboration! Community! Confidence-Building! \nJoin Thinking Cap Theatre at Sunshine Cathedral for a special Intro to Improv Class led by a trio of tremendously talented professional teaching artists! \nIn this 90-minute session\, participants will learn and practice the fundamentals of improv. Through exercises\, storytellinging\, and games\, participants will build confidence and develop skills that can be applied on stage\, in the office\, and in everyday life. \nNo prior experience is needed to register. Come ready to play\, laugh\, learn\, and support your fellow participants. \n  \nThis event is offered in partnership with Wilton Women’s Week. \nThis program is sponsored in part by The OurFund Foundation and Community Foundation of Broward. It is presented in partnership with Wilton Women’s Week.
URL:https://thinkingcaptheatre.org/event/intro-to-improv/
ATTACH;FMTTYPE=image/png:https://thinkingcaptheatre.org/wp-content/uploads/2026/04/69ca47d14c00d_intro-to-improv-CLEAN-website.png
END:VEVENT
END:VCALENDAR