BEGIN:VCALENDAR
VERSION:2.0
PRODID:-//Thinking Cap Theatre - ECPv6.15.20//NONSGML v1.0//EN
CALSCALE:GREGORIAN
METHOD:PUBLISH
X-ORIGINAL-URL:https://thinkingcaptheatre.org
X-WR-CALDESC:Events for Thinking Cap Theatre
REFRESH-INTERVAL;VALUE=DURATION:PT1H
X-Robots-Tag:noindex
X-PUBLISHED-TTL:PT1H
BEGIN:VTIMEZONE
TZID:America/Halifax
BEGIN:DAYLIGHT
TZOFFSETFROM:-0400
TZOFFSETTO:-0300
TZNAME:ADT
DTSTART:20250309T060000
END:DAYLIGHT
BEGIN:STANDARD
TZOFFSETFROM:-0300
TZOFFSETTO:-0400
TZNAME:AST
DTSTART:20251102T050000
END:STANDARD
BEGIN:DAYLIGHT
TZOFFSETFROM:-0400
TZOFFSETTO:-0300
TZNAME:ADT
DTSTART:20260308T060000
END:DAYLIGHT
BEGIN:STANDARD
TZOFFSETFROM:-0300
TZOFFSETTO:-0400
TZNAME:AST
DTSTART:20261101T050000
END:STANDARD
BEGIN:DAYLIGHT
TZOFFSETFROM:-0400
TZOFFSETTO:-0300
TZNAME:ADT
DTSTART:20270314T060000
END:DAYLIGHT
BEGIN:STANDARD
TZOFFSETFROM:-0300
TZOFFSETTO:-0400
TZNAME:AST
DTSTART:20271107T050000
END:STANDARD
END:VTIMEZONE
BEGIN:VEVENT
DTSTART;TZID=America/Halifax:20260522T200000
DTEND;TZID=America/Halifax:20260522T210000
DTSTAMP:20260423T031855
CREATED:20260402T071901Z
LAST-MODIFIED:20260422T163904Z
UID:10000028-1779480000-1779483600@thinkingcaptheatre.org
SUMMARY:WINK
DESCRIPTION:8 events found.	\n	\n		\n	\n\n		\n	\n\n		\n	\n\n	\n\n\n		\n		\n\n		\n		\n\n	\n	Events\n\n	\n	\n	\n\n	\n		Events Search and Views Navigation	\n\n			\n	\n	\n\n	\n		Search	\n\n\n		\n			\n	\n		\n\n		\n			\n	\n		Enter Keyword. Search for Events by Keyword.	\n	\n	\n	\n\n\n		\n\n		\n	Find Events\n	\n\n		\n	\n	\n	\n		Event Views Navigation	\n	\n		\n			\n				\n	\n	\n		\n		\n	\n	\n			\n		\n	\n	\n		\n			\n		\n		\n			\n		\n	\n\n			\n			\n				List			\n			\n	\n\n		\n		\n	\n					\n	\n		\n			\n	\n	\n		\n		\n	\n	\n			\n		\n	\n	\n		\n			\n		\n		\n			\n		\n	\n\n		\n		\n			List		\n	\n\n					\n	\n		\n			\n	\n\n		\n		\n			Month		\n	\n\n					\n	\n		\n			\n	\n\n		\n		\n			Day		\n	\n\n			\n\n	\n\n\n\n\n	\n\n	\n	\n		\n	\n		\n	\n\n	\n\n\n		\n	\n		\n	\n\n	\n\n	\n\n\n	\n	Today\n\n	\n	\n		\n							\n					Upcoming				\n				\n					Upcoming				\n					\n				\n	\n\n	\n	\n		Select date.	\n	\n	\n	\n		\n	\n\n	\n	\n		\n	\n\n	\n\n\n	\n	\n	\n\n\n\n\n		\n		\n\n							\n				\n	\n		\n			May 2026		\n	\n\n\n				\n\n	\n	\n		\n			Fri		\n		\n			15		\n	\n\n\n	\n		\n			\n	\n\n\n			\n\n				\n					\n	\n		WINK	\n\n					\n		\n		May 15 @ 8:00 PM - 9:00 PM	\n	\n\n	\n		\n\n	\n	\n	\n\n		WINK\n	\n\n\n														\n\n				\n	Buy Tickets BY JEN SILVERMAN Hollywood Central Performing Arts Center In WINK by Jen Silverman\, a seemingly ordinary marriage spirals into delicious chaos after one very bad decision involving the… \n\n				\n			\n		\n	\n\n\n\n							\n				\n				\n\n	\n	\n		\n			Sat		\n		\n			16		\n	\n\n\n	\n		\n			\n	\n\n\n			\n\n				\n					\n	\n		WINK	\n\n					\n		\n		May 16 @ 2:00 PM - 3:00 PM	\n	\n\n	\n		\n\n	\n	\n	\n\n		WINK\n	\n\n\n														\n\n				\n	Buy Tickets BY JEN SILVERMAN Hollywood Central Performing Arts Center In WINK by Jen Silverman\, a seemingly ordinary marriage spirals into delicious chaos after one very bad decision involving the… \n\n				\n			\n		\n	\n\n\n\n							\n				\n				\n\n	\n	\n		\n			Sun		\n		\n			17		\n	\n\n\n	\n		\n			\n	\n\n\n			\n\n				\n					\n	\n		WINK	\n\n					\n		\n		May 17 @ 7:00 PM - 8:00 PM	\n	\n\n	\n		\n\n	\n	\n	\n\n		WINK\n	\n\n\n														\n\n				\n	Buy Tickets BY JEN SILVERMAN Hollywood Central Performing Arts Center In WINK by Jen Silverman\, a seemingly ordinary marriage spirals into delicious chaos after one very bad decision involving the… \n\n				\n			\n		\n	\n\n\n\n							\n				\n				\n\n	\n	\n		\n			Tue		\n		\n			19		\n	\n\n\n	\n		\n			\n	\n\n\n			\n\n				\n					\n	\n		WINK	\n\n					\n		\n		May 19 @ 7:00 PM - 8:00 PM	\n	\n\n	\n		\n\n	\n	\n	\n\n		WINK\n	\n\n\n														\n\n				\n	Buy Tickets BY JEN SILVERMAN Hollywood Central Performing Arts Center In WINK by Jen Silverman\, a seemingly ordinary marriage spirals into delicious chaos after one very bad decision involving the… \n\n				\n			\n		\n	\n\n\n\n							\n				\n				\n\n	\n	\n		\n			Fri		\n		\n			22		\n	\n\n\n	\n		\n			\n	\n\n\n			\n\n				\n					\n	\n		WINK	\n\n					\n		\n		May 22 @ 8:00 PM - 9:00 PM	\n	\n\n	\n		\n\n	\n	\n	\n\n		WINK\n	\n\n\n														\n\n				\n	Buy Tickets BY JEN SILVERMAN Hollywood Central Performing Arts Center In WINK by Jen Silverman\, a seemingly ordinary marriage spirals into delicious chaos after one very bad decision involving the… \n\n				\n			\n		\n	\n\n\n\n							\n				\n				\n\n	\n	\n		\n			Sat		\n		\n			23		\n	\n\n\n	\n		\n			\n	\n\n\n			\n\n				\n					\n	\n		WINK	\n\n					\n		\n		May 23 @ 8:00 PM - 9:00 PM	\n	\n\n	\n		\n\n	\n	\n	\n\n		WINK\n	\n\n\n														\n\n				\n	Buy Tickets BY JEN SILVERMAN Hollywood Central Performing Arts Center In WINK by Jen Silverman\, a seemingly ordinary marriage spirals into delicious chaos after one very bad decision involving the… \n\n				\n			\n		\n	\n\n\n\n							\n				\n				\n\n	\n	\n		\n			Sun		\n		\n			24		\n	\n\n\n	\n		\n			\n	\n\n\n			\n\n				\n					\n	\n		WINK	\n\n					\n		\n		May 24 @ 7:00 PM - 8:00 PM	\n	\n\n	\n		\n\n	\n	\n	\n\n		WINK\n	\n\n\n														\n\n				\n	Buy Tickets BY JEN SILVERMAN Hollywood Central Performing Arts Center In WINK by Jen Silverman\, a seemingly ordinary marriage spirals into delicious chaos after one very bad decision involving the… \n\n				\n			\n		\n	\n\n\n\n							\n				\n				\n\n	\n	\n		\n			Tue		\n		\n			26		\n	\n\n\n	\n		\n			\n	\n\n\n			\n\n				\n					\n	\n		WINK	\n\n					\n		\n		May 26 @ 7:00 PM - 8:00 PM	\n	\n\n	\n		\n\n	\n	\n	\n\n		WINK\n	\n\n\n														\n\n				\n	Buy Tickets BY JEN SILVERMAN Hollywood Central Performing Arts Center In WINK by Jen Silverman\, a seemingly ordinary marriage spirals into delicious chaos after one very bad decision involving the… \n\n				\n			\n		\n	\n\n\n\n			\n		\n\n		\n	\n		\n	\n		\n	\n\n		\n			Previous Events		\n	\n\n\n		\n	\n		Today	\n\n\n		\n	\n		\n			Next Events		\n		\n	\n\n	\n\n	\n\n\n		\n	\n		\n			\n				Subscribe to calendar			\n			\n	\n\n		\n		\n			\n									\n\n	\n		Google Calendar	\n\n									\n\n	\n		iCalendar	\n\n									\n\n	\n		Outlook 365	\n\n									\n\n	\n		Outlook Live	\n\n									\n\n	\n		Export .ics file	\n\n									\n\n	\n		Export Outlook .ics file	\n\n							\n		\n	\n\n\n		\n	\n\n\n\n\nBuy Tickets \nBY JEN SILVERMAN \nHollywood Central Performing Arts Center \nIn WINK by Jen Silverman\, a seemingly ordinary marriage spirals into delicious chaos after one very bad decision involving the family cat. What follows is a wickedly funny\, wildly inventive\, and fiercely unpredictable examination of love\, power\, and survival. Wink peels back the veneer of civility to reveal something far more profound about the human condition and the instincts we try to hide that refuse to stay buried. \nThinking Cap Theatre is the resident professional theatre company at Hollywood Art and Culture Center. \nThis programming is made possible by support from Our Fund Foundation and The Warten Foundation. \n 
URL:https://thinkingcaptheatre.org/event/wink/2026-05-22/
CATEGORIES:Events
ATTACH;FMTTYPE=image/png:https://thinkingcaptheatre.org/wp-content/uploads/2026/04/69ca46db1e84d_WINK-clean-website.png
END:VEVENT
END:VCALENDAR