BEGIN:VCALENDAR
VERSION:2.0
PRODID:-//Thinking Cap Theatre - ECPv6.15.20//NONSGML v1.0//EN
CALSCALE:GREGORIAN
METHOD:PUBLISH
X-ORIGINAL-URL:https://thinkingcaptheatre.org
X-WR-CALDESC:Events for Thinking Cap Theatre
REFRESH-INTERVAL;VALUE=DURATION:PT1H
X-Robots-Tag:noindex
X-PUBLISHED-TTL:PT1H
BEGIN:VTIMEZONE
TZID:America/Halifax
BEGIN:DAYLIGHT
TZOFFSETFROM:-0400
TZOFFSETTO:-0300
TZNAME:ADT
DTSTART:20250309T060000
END:DAYLIGHT
BEGIN:STANDARD
TZOFFSETFROM:-0300
TZOFFSETTO:-0400
TZNAME:AST
DTSTART:20251102T050000
END:STANDARD
BEGIN:DAYLIGHT
TZOFFSETFROM:-0400
TZOFFSETTO:-0300
TZNAME:ADT
DTSTART:20260308T060000
END:DAYLIGHT
BEGIN:STANDARD
TZOFFSETFROM:-0300
TZOFFSETTO:-0400
TZNAME:AST
DTSTART:20261101T050000
END:STANDARD
BEGIN:DAYLIGHT
TZOFFSETFROM:-0400
TZOFFSETTO:-0300
TZNAME:ADT
DTSTART:20270314T060000
END:DAYLIGHT
BEGIN:STANDARD
TZOFFSETFROM:-0300
TZOFFSETTO:-0400
TZNAME:AST
DTSTART:20271107T050000
END:STANDARD
BEGIN:DAYLIGHT
TZOFFSETFROM:-0400
TZOFFSETTO:-0300
TZNAME:ADT
DTSTART:20280312T060000
END:DAYLIGHT
BEGIN:STANDARD
TZOFFSETFROM:-0300
TZOFFSETTO:-0400
TZNAME:AST
DTSTART:20281105T050000
END:STANDARD
END:VTIMEZONE
BEGIN:VEVENT
DTSTART;VALUE=DATE:20261106
DTEND;VALUE=DATE:20261122
DTSTAMP:20260423T080635
CREATED:20260402T075530Z
LAST-MODIFIED:20260411T010450Z
UID:10000020-1793923200-1795305599@thinkingcaptheatre.org
SUMMARY:HAMLET
DESCRIPTION:by William Shakespeare \nHollywood Central Performing Arts Center \n“There is nothing either good or bad\, but thinking makes it so.” This bold reimagining of HAMLET by William Shakespeare transforms the classic into an immersive\, visceral\, and fiercely contemporary experience. Come bear witness to a world of surveillance and suspicion where minds unravel in the pursuit of justice. \nThinking Cap Theatre is the resident professional theatre company at Holleywood Art and Culture Center. \nThis programming is made possible by support from Our Fund Foundation and The Warten Foundation. \nBuy Tickets
URL:https://thinkingcaptheatre.org/event/hamlet/
ATTACH;FMTTYPE=image/png:https://thinkingcaptheatre.org/wp-content/uploads/2026/04/69ca46db3c4bc_HAMLET-clean-website.png
END:VEVENT
BEGIN:VEVENT
DTSTART;VALUE=DATE:20270320
DTEND;VALUE=DATE:20270321
DTSTAMP:20260423T080635
CREATED:20260402T075806Z
LAST-MODIFIED:20260411T010407Z
UID:10000021-1805500800-1805587199@thinkingcaptheatre.org
SUMMARY:MOLLY’S DREAM
DESCRIPTION:by María Irene Fornés \nHollywood Central Performing Arts Center \nIn MOLLY’S DREAM \, a rarely staged gem by OffOff-Broadway pioneer Maria Irene Fornes\, an unlucky-in-love waitress whips up a musical fantasy replete with Prince Charming\, a spaghetti western cowboy\, and Marlene Dietrich and Shirley Temple lookalikes. Featuring a new original score by HolaHi\, this sexy\, silly\, surreal play will dazzle your senses and win your heart. \nThinking Cap Theatre is the resident professional theatre company at Hollywood Art and Culture Center. \nThis programming is made possible by support from Our Fund Foundation and The Warten Foundation. \nBuy Tickets
URL:https://thinkingcaptheatre.org/event/mollys-dream/
ATTACH;FMTTYPE=image/png:https://thinkingcaptheatre.org/wp-content/uploads/2026/04/69ca46db087db_mollys-dream-clean-website.png
END:VEVENT
BEGIN:VEVENT
DTSTART;VALUE=DATE:20270530
DTEND;VALUE=DATE:20270531
DTSTAMP:20260423T080635
CREATED:20260402T075955Z
LAST-MODIFIED:20260411T010259Z
UID:10000022-1811635200-1811721599@thinkingcaptheatre.org
SUMMARY:AN ENEMY OF THE PEOPLE
DESCRIPTION:by Henrik Ibsen \nHollywood Central Performing Arts Center \nWhat happens when truth collides with power\, and who really pays the price for honesty? AN ENEMY OF THE PEOPLE by Henrik Ibsen centers on a doctor whose research reveals a community’s literal and figurative contamination\, sparking outrage and betrayal. This bold\, stunningly relevant drama exposes the clash between integrity\, greed\, and public opinion and calculates the cost of standing up for what’s right. \nThinking Cap Theatre is the resident professional theatre company at Hollywood Art and Culture Center. \nThis programming is made possible by support from Our Fund Foundation and The Warten Foundation. \nBuy Tickets
URL:https://thinkingcaptheatre.org/event/an-enemy-of-the-people/
ATTACH;FMTTYPE=image/png:https://thinkingcaptheatre.org/wp-content/uploads/2026/04/69ca46dabd1b7_enemy-clean-website.png
END:VEVENT
END:VCALENDAR