BEGIN:VCALENDAR
VERSION:2.0
PRODID:-//Thinking Cap Theatre - ECPv6.15.20//NONSGML v1.0//EN
CALSCALE:GREGORIAN
METHOD:PUBLISH
X-WR-CALNAME:Thinking Cap Theatre
X-ORIGINAL-URL:https://thinkingcaptheatre.org
X-WR-CALDESC:Events for Thinking Cap Theatre
REFRESH-INTERVAL;VALUE=DURATION:PT1H
X-Robots-Tag:noindex
X-PUBLISHED-TTL:PT1H
BEGIN:VTIMEZONE
TZID:UTC
BEGIN:STANDARD
TZOFFSETFROM:+0000
TZOFFSETTO:+0000
TZNAME:UTC
DTSTART:20240101T000000
END:STANDARD
END:VTIMEZONE
BEGIN:VEVENT
DTSTART;TZID=UTC:20251101T200000
DTEND;TZID=UTC:20251101T210000
DTSTAMP:20260423T082314
CREATED:20250911T142333Z
LAST-MODIFIED:20250912T172340Z
UID:10000016-1762027200-1762030800@thinkingcaptheatre.org
SUMMARY:LIZZIE: THE MUSICAL
DESCRIPTION: Show date: 18 Oct 2025 – 1 Nov 2025 \n\n\nWritten by Steven Cheslik-DeMeyer (music and lyrics)\, Tim Maner (lyrics\, book\, and additional music)\, and Alan Stevens Hewitt (music and additional lyrics). \nDates:\nSaturday\, October 18\, 2025 | 8:00pm (OPENING)\nSunday\, October 19\, 2025 | 6:00pm\nWednesday\, October 22\, 2025 | 7:00pm\nSaturday\, October 25\, 2025 | 3:00pm\nSunday\, October 26\, 2025 | 6:00pm\nWednesday\, October 29\, 2025 | 7:00pm\nFriday\, October 31\, 2025\, 8:00pm\nSaturday\, November 1\, 2025 | 8:00pm (CLOSING) \nLocation: Hollywood Central Performing Arts Center\, 1770 Monroe Street\, Hollywood\, FL 33020 \nDescription:\nGet ready to rock at Lizzie: The Musical\, a theatrical thrill ride that slashes through Victorian repression with unapologetic abandon!\nMeet Lizzie Borden—a dutiful daughter with a dark secret and a thirst for freedom. As secrets unravel and desires ignite\, Lizzie\, her unassumingly seductive friend Alice\, rebellious maid Bridget\, and manipulative sister Emma collide in a bloody storm of betrayal\, intrigue\, and liberation. Fueled by electric guitars\, raw emotion\, and a punk-meets-Gothic edge\, Lizzie shatters the prim corset of history with electrifying passion and a killer beat. Was it madness? Revenge? Or finally claiming power in a world that denied her voice? You be the judge. \nWritten by Steven Cheslik-DeMeyer (music and lyrics)\, Tim Maner (lyrics\, book\, and additional music)\, and Alan Stevens Hewitt (music and additional lyrics). \nLIZZIE: THE MUSICAL is made possible with support from the Broward County Cultural Division & The Our Fund Foundation. Further support has been provided by the following Funds at the Community Foundation of Broward: Leo M. and Alice J. Rutten Fund\, August and Melba Urbanek Fund\, Huizenga Family Unrestricted Fund\, and The Frederick A. DeLuca Foundation Broward Community Fund. LIZZIE: THE MUSICAL is also presented in partnership with the Art and Culture Center Hollywood . \nTCT is committed to making its programs accessible for all. Accommodations are by request. Please reach out to TCT’s Managing Director via email\, breeanna@thinkingcaptheatre.org should you need any assistance.
URL:https://thinkingcaptheatre.org/event/lizzie-the-musical/2025-11-01/
LOCATION:Hollywood Central Performing Arts Center\, 1770 Monroe Street\, Hollywood\, FL\, 33020\, United States
ATTACH;FMTTYPE=image/png:https://thinkingcaptheatre.org/wp-content/uploads/2025/09/Lizzie-square-website-1024x1024-1.png
END:VEVENT
END:VCALENDAR